BEGIN:VCALENDAR
VERSION:2.0
PRODID:icalendar-ruby
CALSCALE:GREGORIAN
METHOD:PUBLISH
BEGIN:VEVENT
DTSTAMP:20260420T050853Z
UID:231-2789900@smrbc.org
DTSTART:20261101T233000Z
DTEND:20261102T010000Z
CLASS:PUBLIC
CREATED:20260419T214538
DESCRIPTION:
LAST-MODIFIED:20260419T214538
LOCATION:Student Center
SUMMARY:SMS Grow Groups
URL;VALUE=URI:https://www.smrbc.net/events/sms-grow-groups--231/2026-11-01
ATTACH;FILENAME=4.png;FMTTYPE=image/png:https://dq5pwpg1q8ru0.cloudfront.ne
 t/2025/09/18/14/27/08/215159b1-572d-4fb8-839b-5b0cfa733256/4.png
END:VEVENT
END:VCALENDAR
