BEGIN:VCALENDAR
VERSION:2.0
PRODID:icalendar-ruby
CALSCALE:GREGORIAN
METHOD:PUBLISH
BEGIN:VEVENT
DTSTAMP:20260419T202923Z
UID:231-2786386@smrbc.org
DTSTART:20260913T223000Z
DTEND:20260914T000000Z
CLASS:PUBLIC
CREATED:20260419T142230
DESCRIPTION:
LAST-MODIFIED:20260419T142230
LOCATION:Student Center
SUMMARY:SMS Grow Groups
URL;VALUE=URI:https://www.smrbc.net/events/sms-grow-groups--231/2026-09-13
ATTACH;FILENAME=4.png;FMTTYPE=image/png:https://dq5pwpg1q8ru0.cloudfront.ne
 t/2025/09/18/14/27/08/215159b1-572d-4fb8-839b-5b0cfa733256/4.png
END:VEVENT
END:VCALENDAR
